Package: CopyNeutralIMA Version: 1.24.0 Command: /home/biocbuild/bbs-3.20-bioc/R/bin/R CMD build --keep-empty-dirs --no-resave-data CopyNeutralIMA StartedAt: 2025-02-13 11:09:28 -0500 (Thu, 13 Feb 2025) EndedAt: 2025-02-13 11:12:56 -0500 (Thu, 13 Feb 2025) EllapsedTime: 207.6 seconds RetCode: 0 Status: OK PackageFile: CopyNeutralIMA_1.24.0.tar.gz PackageFileSize: 566.9 KiB