Package: CoSIAdata Version: 1.10.0 Command: /home/biocbuild/bbs-3.22-bioc/R/bin/R CMD build --keep-empty-dirs --no-resave-data CoSIAdata StartedAt: 2025-10-30 11:16:37 -0400 (Thu, 30 Oct 2025) EndedAt: 2025-10-30 11:17:07 -0400 (Thu, 30 Oct 2025) EllapsedTime: 30.1 seconds RetCode: 0 Status: OK PackageFile: CoSIAdata_1.10.0.tar.gz PackageFileSize: 296.4 KiB