Package: CoSIAdata Version: 1.8.0 Command: /home/biocbuild/bbs-3.21-bioc/R/bin/R CMD INSTALL CoSIAdata StartedAt: 2025-10-16 10:57:17 -0400 (Thu, 16 Oct 2025) EndedAt: 2025-10-16 10:57:33 -0400 (Thu, 16 Oct 2025) EllapsedTime: 15.7 seconds RetCode: 0 Status: OK