Package: CoSIAdata Version: 1.8.0 Command: /home/biocbuild/bbs-3.21-bioc/R/bin/R CMD build --keep-empty-dirs --no-resave-data CoSIAdata StartedAt: 2025-10-16 11:10:06 -0400 (Thu, 16 Oct 2025) EndedAt: 2025-10-16 11:10:29 -0400 (Thu, 16 Oct 2025) EllapsedTime: 23.1 seconds RetCode: 0 Status: OK PackageFile: CoSIAdata_1.8.0.tar.gz PackageFileSize: 296.4 KiB