Package: CluMSIDdata Version: 1.24.0 Command: /home/biocbuild/bbs-3.21-bioc/R/bin/R CMD build --keep-empty-dirs --no-resave-data CluMSIDdata StartedAt: 2025-09-30 11:09:06 -0400 (Tue, 30 Sep 2025) EndedAt: 2025-09-30 11:10:13 -0400 (Tue, 30 Sep 2025) EllapsedTime: 67.5 seconds RetCode: 0 Status: OK PackageFile: CluMSIDdata_1.24.0.tar.gz PackageFileSize: 47.27 MiB