Package: ChIPexoQualExample Version: 1.34.0 Command: /home/biocbuild/bbs-3.22-bioc/R/bin/R CMD INSTALL ChIPexoQualExample StartedAt: 2025-11-18 10:55:37 -0500 (Tue, 18 Nov 2025) EndedAt: 2025-11-18 10:55:39 -0500 (Tue, 18 Nov 2025) EllapsedTime: 2.0 seconds RetCode: 0 Status: OK