Package: ChIPDBData Version: 1.0.0 Command: /home/biocbuild/bbs-3.22-bioc/R/bin/R CMD INSTALL ChIPDBData StartedAt: 2025-11-18 10:57:54 -0500 (Tue, 18 Nov 2025) EndedAt: 2025-11-18 10:57:57 -0500 (Tue, 18 Nov 2025) EllapsedTime: 2.5 seconds RetCode: 0 Status: OK