Package: ChIPDBData Version: 1.0.0 Command: /home/biocbuild/bbs-3.22-bioc/R/bin/R CMD check --install=check:ChIPDBData.install-out.txt --library=/home/biocbuild/bbs-3.22-bioc/R/site-library --timings ChIPDBData_1.0.0.tar.gz StartedAt: 2025-11-18 12:35:18 -0500 (Tue, 18 Nov 2025) EndedAt: 2025-11-18 12:37:19 -0500 (Tue, 18 Nov 2025) EllapsedTime: 120.9 seconds RetCode: 0 Status: OK CheckDir: ChIPDBData.Rcheck Warnings: 0