Package: ChAMPdata Version: 2.40.0 Command: /home/biocbuild/bbs-3.21-bioc/R/bin/R CMD INSTALL ChAMPdata StartedAt: 2025-10-09 11:01:42 -0400 (Thu, 09 Oct 2025) EndedAt: 2025-10-09 11:01:48 -0400 (Thu, 09 Oct 2025) EllapsedTime: 6.2 seconds RetCode: 0 Status: OK