Package: ChAMPdata Version: 2.40.0 Command: /home/biocbuild/bbs-3.21-bioc/R/bin/R CMD build --keep-empty-dirs --no-resave-data ChAMPdata StartedAt: 2025-10-09 11:08:22 -0400 (Thu, 09 Oct 2025) EndedAt: 2025-10-09 11:09:14 -0400 (Thu, 09 Oct 2025) EllapsedTime: 52.3 seconds RetCode: 0 Status: OK PackageFile: ChAMPdata_2.40.0.tar.gz PackageFileSize: 667.1 MiB