Package: CellMapperData Version: 1.34.0 Command: /home/biocbuild/bbs-3.21-bioc/R/bin/R CMD check --install=check:CellMapperData.install-out.txt --library=/home/biocbuild/bbs-3.21-bioc/R/site-library --timings CellMapperData_1.34.0.tar.gz StartedAt: 2025-10-16 12:02:15 -0400 (Thu, 16 Oct 2025) EndedAt: 2025-10-16 12:03:14 -0400 (Thu, 16 Oct 2025) EllapsedTime: 59.3 seconds RetCode: 0 Status: OK CheckDir: CellMapperData.Rcheck Warnings: 0