Package: CardinalWorkflows Version: 1.38.0 Command: /home/biocbuild/bbs-3.20-bioc/R/bin/R CMD check --install=check:CardinalWorkflows.install-out.txt --library=/home/biocbuild/bbs-3.20-bioc/R/site-library --timings CardinalWorkflows_1.38.0.tar.gz StartedAt: 2025-02-06 11:47:06 -0500 (Thu, 06 Feb 2025) EndedAt: 2025-02-06 12:04:29 -0500 (Thu, 06 Feb 2025) EllapsedTime: 1042.9 seconds RetCode: 0 Status: OK CheckDir: CardinalWorkflows.Rcheck Warnings: 0