Package: CardinalWorkflows Version: 1.38.0 Command: /home/biocbuild/bbs-3.20-bioc/R/bin/R CMD build --keep-empty-dirs --no-resave-data CardinalWorkflows StartedAt: 2025-01-30 11:07:49 -0500 (Thu, 30 Jan 2025) EndedAt: 2025-01-30 11:23:23 -0500 (Thu, 30 Jan 2025) EllapsedTime: 934.8 seconds RetCode: 0 Status: OK PackageFile: CardinalWorkflows_1.38.0.tar.gz PackageFileSize: 53.5 MiB