Package: COSMIC.67 Version: 1.42.0 Command: /home/biocbuild/bbs-3.20-bioc/R/bin/R CMD INSTALL COSMIC.67 StartedAt: 2025-02-18 11:04:08 -0500 (Tue, 18 Feb 2025) EndedAt: 2025-02-18 11:04:41 -0500 (Tue, 18 Feb 2025) EllapsedTime: 33.4 seconds RetCode: 0 Status: OK