Package: COSMIC.67 Version: 1.42.0 Command: /home/biocbuild/bbs-3.20-bioc/R/bin/R CMD build --keep-empty-dirs --no-resave-data COSMIC.67 StartedAt: 2025-02-18 11:09:16 -0500 (Tue, 18 Feb 2025) EndedAt: 2025-02-18 11:10:21 -0500 (Tue, 18 Feb 2025) EllapsedTime: 64.1 seconds RetCode: 0 Status: OK PackageFile: COSMIC.67_1.42.0.tar.gz PackageFileSize: 39.18 MiB