Package: COPDSexualDimorphism.data Version: 1.46.0 Command: /home/biocbuild/bbs-3.22-bioc/R/bin/R CMD build --keep-empty-dirs --no-resave-data COPDSexualDimorphism.data StartedAt: 2025-11-18 11:14:50 -0500 (Tue, 18 Nov 2025) EndedAt: 2025-11-18 11:14:58 -0500 (Tue, 18 Nov 2025) EllapsedTime: 7.7 seconds RetCode: 0 Status: OK PackageFile: COPDSexualDimorphism.data_1.46.0.tar.gz PackageFileSize: 34.3 MiB