Package: CONFESSdata Version: 1.34.0 Command: /home/biocbuild/bbs-3.20-bioc/R/bin/R CMD check --install=check:CONFESSdata.install-out.txt --library=/home/biocbuild/bbs-3.20-bioc/R/site-library --timings CONFESSdata_1.34.0.tar.gz StartedAt: 2025-02-20 11:52:31 -0500 (Thu, 20 Feb 2025) EndedAt: 2025-02-20 11:52:42 -0500 (Thu, 20 Feb 2025) EllapsedTime: 11.6 seconds RetCode: 0 Status: OK CheckDir: CONFESSdata.Rcheck Warnings: 0