Package: CONFESSdata Version: 1.34.0 Command: /home/biocbuild/bbs-3.20-bioc/R/bin/R CMD build --keep-empty-dirs --no-resave-data CONFESSdata StartedAt: 2025-02-20 11:10:21 -0500 (Thu, 20 Feb 2025) EndedAt: 2025-02-20 11:10:56 -0500 (Thu, 20 Feb 2025) EllapsedTime: 34.3 seconds RetCode: 0 Status: OK PackageFile: CONFESSdata_1.34.0.tar.gz PackageFileSize: 9.832 MiB