Package: COHCAPanno Version: 1.42.0 Command: /home/biocbuild/bbs-3.20-bioc/R/bin/R CMD check --install=check:COHCAPanno.install-out.txt --library=/home/biocbuild/bbs-3.20-bioc/R/site-library --timings COHCAPanno_1.42.0.tar.gz StartedAt: 2025-02-13 11:51:02 -0500 (Thu, 13 Feb 2025) EndedAt: 2025-02-13 11:51:22 -0500 (Thu, 13 Feb 2025) EllapsedTime: 19.9 seconds RetCode: 0 Status: OK CheckDir: COHCAPanno.Rcheck Warnings: 0