Package: COHCAPanno Version: 1.44.0 Command: /home/biocbuild/bbs-3.21-bioc/R/bin/R CMD build --keep-empty-dirs --no-resave-data COHCAPanno StartedAt: 2025-10-16 11:09:47 -0400 (Thu, 16 Oct 2025) EndedAt: 2025-10-16 11:09:54 -0400 (Thu, 16 Oct 2025) EllapsedTime: 7.3 seconds RetCode: 0 Status: OK PackageFile: COHCAPanno_1.44.0.tar.gz PackageFileSize: 9.328 MiB