Package: CLLmethylation Version: 1.26.0 Command: /home/biocbuild/bbs-3.20-bioc/R/bin/R CMD build --keep-empty-dirs --no-resave-data CLLmethylation StartedAt: 2025-02-06 11:08:29 -0500 (Thu, 06 Feb 2025) EndedAt: 2025-02-06 11:09:33 -0500 (Thu, 06 Feb 2025) EllapsedTime: 63.7 seconds RetCode: 0 Status: OK PackageFile: CLLmethylation_1.26.0.tar.gz PackageFileSize: 361.9 KiB