Package: CENTREprecomputed Version: 1.0.0 Command: /home/biocbuild/bbs-3.22-bioc/R/bin/R CMD build --keep-empty-dirs --no-resave-data CENTREprecomputed StartedAt: 2025-11-18 11:10:45 -0500 (Tue, 18 Nov 2025) EndedAt: 2025-11-18 12:30:45 -0500 (Tue, 18 Nov 2025) EllapsedTime: 4800.0 seconds RetCode: None Status: TIMEOUT PackageFile: None PackageFileSize: NA