Package: BloodCancerMultiOmics2017 Version: 1.26.0 Command: /home/biocbuild/bbs-3.20-bioc/R/bin/R CMD check --install=check:BloodCancerMultiOmics2017.install-out.txt --library=/home/biocbuild/bbs-3.20-bioc/R/site-library --timings BloodCancerMultiOmics2017_1.26.0.tar.gz StartedAt: 2025-02-06 11:44:59 -0500 (Thu, 06 Feb 2025) EndedAt: 2025-02-06 12:16:33 -0500 (Thu, 06 Feb 2025) EllapsedTime: 1893.7 seconds RetCode: 0 Status: WARNINGS CheckDir: BloodCancerMultiOmics2017.Rcheck Warnings: 1