Package: BioPlex Version: 1.16.0 Command: /home/biocbuild/bbs-3.22-bioc/R/bin/R CMD INSTALL BioPlex StartedAt: 2025-11-18 10:59:22 -0500 (Tue, 18 Nov 2025) EndedAt: 2025-11-18 10:59:42 -0500 (Tue, 18 Nov 2025) EllapsedTime: 20.3 seconds RetCode: 0 Status: OK