Package: BioImageDbs Version: 1.14.0 Command: /home/biocbuild/bbs-3.20-bioc/R/bin/R CMD INSTALL BioImageDbs StartedAt: 2025-02-11 10:57:43 -0500 (Tue, 11 Feb 2025) EndedAt: 2025-02-11 10:57:44 -0500 (Tue, 11 Feb 2025) EllapsedTime: 1.2 seconds RetCode: 0 Status: OK