Package: BeadSorted.Saliva.EPIC Version: 1.18.0 Command: /home/biocbuild/bbs-3.22-bioc/R/bin/R CMD check --install=check:BeadSorted.Saliva.EPIC.install-out.txt --library=/home/biocbuild/bbs-3.22-bioc/R/site-library --timings BeadSorted.Saliva.EPIC_1.18.0.tar.gz StartedAt: 2025-11-18 12:31:21 -0500 (Tue, 18 Nov 2025) EndedAt: 2025-11-18 12:37:14 -0500 (Tue, 18 Nov 2025) EllapsedTime: 352.8 seconds RetCode: 0 Status: OK CheckDir: BeadSorted.Saliva.EPIC.Rcheck Warnings: 0