Package: BeadSorted.Saliva.EPIC Version: 1.18.0 Command: /home/biocbuild/bbs-3.22-bioc/R/bin/R CMD build --keep-empty-dirs --no-resave-data BeadSorted.Saliva.EPIC StartedAt: 2025-11-18 11:08:53 -0500 (Tue, 18 Nov 2025) EndedAt: 2025-11-18 11:09:38 -0500 (Tue, 18 Nov 2025) EllapsedTime: 45.7 seconds RetCode: 0 Status: OK PackageFile: BeadSorted.Saliva.EPIC_1.18.0.tar.gz PackageFileSize: 13.46 KiB