Package: BeadSorted.Saliva.EPIC Version: 1.16.0 Command: /home/biocbuild/bbs-3.21-bioc/R/bin/R CMD INSTALL BeadSorted.Saliva.EPIC StartedAt: 2025-10-07 11:04:32 -0400 (Tue, 07 Oct 2025) EndedAt: 2025-10-07 11:05:15 -0400 (Tue, 07 Oct 2025) EllapsedTime: 42.4 seconds RetCode: 0 Status: OK