Package: BeadSorted.Saliva.EPIC Version: 1.16.0 Command: /home/biocbuild/bbs-3.21-bioc/R/bin/R CMD build --keep-empty-dirs --no-resave-data BeadSorted.Saliva.EPIC StartedAt: 2025-10-07 11:06:27 -0400 (Tue, 07 Oct 2025) EndedAt: 2025-10-07 11:07:11 -0400 (Tue, 07 Oct 2025) EllapsedTime: 43.6 seconds RetCode: 0 Status: OK PackageFile: BeadSorted.Saliva.EPIC_1.16.0.tar.gz PackageFileSize: 13.46 KiB