Package: BeadArrayUseCases Version: 1.48.0 Command: /home/biocbuild/bbs-3.22-bioc/R/bin/R CMD build --keep-empty-dirs --no-resave-data BeadArrayUseCases StartedAt: 2025-10-30 11:12:08 -0400 (Thu, 30 Oct 2025) EndedAt: 2025-10-30 11:21:06 -0400 (Thu, 30 Oct 2025) EllapsedTime: 538.2 seconds RetCode: 0 Status: OK PackageFile: BeadArrayUseCases_1.48.0.tar.gz PackageFileSize: 197.6 MiB