Package: AshkenazimSonChr21 Version: 1.40.0 Command: /home/biocbuild/bbs-3.22-bioc/R/bin/R CMD INSTALL AshkenazimSonChr21 StartedAt: 2025-11-18 10:55:47 -0500 (Tue, 18 Nov 2025) EndedAt: 2025-11-18 10:55:51 -0500 (Tue, 18 Nov 2025) EllapsedTime: 3.8 seconds RetCode: 0 Status: OK