Package: AneuFinderData Version: 1.34.0 Command: /home/biocbuild/bbs-3.20-bioc/R/bin/R CMD INSTALL AneuFinderData StartedAt: 2025-02-06 10:55:22 -0500 (Thu, 06 Feb 2025) EndedAt: 2025-02-06 10:55:25 -0500 (Thu, 06 Feb 2025) EllapsedTime: 2.6 seconds RetCode: 0 Status: OK