Package: AmpAffyExample Version: 1.46.0 Command: /home/biocbuild/bbs-3.20-bioc/R/bin/R CMD INSTALL AmpAffyExample StartedAt: 2025-02-13 10:56:31 -0500 (Thu, 13 Feb 2025) EndedAt: 2025-02-13 10:56:35 -0500 (Thu, 13 Feb 2025) EllapsedTime: 3.5 seconds RetCode: 0 Status: OK