Package: Affymoe4302Expr Version: 1.44.0 Command: /home/biocbuild/bbs-3.20-bioc/R/bin/R CMD build --keep-empty-dirs --no-resave-data Affymoe4302Expr StartedAt: 2025-02-06 11:05:49 -0500 (Thu, 06 Feb 2025) EndedAt: 2025-02-06 11:06:17 -0500 (Thu, 06 Feb 2025) EllapsedTime: 28.4 seconds RetCode: 0 Status: OK PackageFile: Affymoe4302Expr_1.44.0.tar.gz PackageFileSize: 417.6 MiB