Package: AffymetrixDataTestFiles Version: 0.48.0 Command: /home/biocbuild/bbs-3.22-bioc/R/bin/R CMD INSTALL AffymetrixDataTestFiles StartedAt: 2025-11-18 10:56:10 -0500 (Tue, 18 Nov 2025) EndedAt: 2025-11-18 10:56:22 -0500 (Tue, 18 Nov 2025) EllapsedTime: 12.5 seconds RetCode: 0 Status: OK