Package: Affyhgu133Plus2Expr Version: 1.42.0 Command: /home/biocbuild/bbs-3.21-bioc/R/bin/R CMD INSTALL Affyhgu133Plus2Expr StartedAt: 2025-10-02 10:55:38 -0400 (Thu, 02 Oct 2025) EndedAt: 2025-10-02 10:55:42 -0400 (Thu, 02 Oct 2025) EllapsedTime: 4.1 seconds RetCode: 0 Status: OK