Package: AWAggregatorData Version: 1.0.0 Command: /home/biocbuild/bbs-3.22-bioc/R/bin/R CMD INSTALL AWAggregatorData StartedAt: 2025-11-18 10:57:47 -0500 (Tue, 18 Nov 2025) EndedAt: 2025-11-18 10:57:59 -0500 (Tue, 18 Nov 2025) EllapsedTime: 12.4 seconds RetCode: 0 Status: OK