Package: ARRmData Version: 1.44.0 Command: /home/biocbuild/bbs-3.21-bioc/R/bin/R CMD INSTALL ARRmData StartedAt: 2025-10-02 10:55:28 -0400 (Thu, 02 Oct 2025) EndedAt: 2025-10-02 10:55:31 -0400 (Thu, 02 Oct 2025) EllapsedTime: 2.8 seconds RetCode: 0 Status: OK