Package: ARRmData Version: 1.44.0 Command: /home/biocbuild/bbs-3.21-bioc/R/bin/R CMD build --keep-empty-dirs --no-resave-data ARRmData StartedAt: 2025-10-02 11:06:18 -0400 (Thu, 02 Oct 2025) EndedAt: 2025-10-02 11:06:22 -0400 (Thu, 02 Oct 2025) EllapsedTime: 4.7 seconds RetCode: 0 Status: OK PackageFile: ARRmData_1.44.0.tar.gz PackageFileSize: 56.51 MiB