Package: ALLMLL Version: 1.46.0 Command: /home/biocbuild/bbs-3.20-bioc/R/bin/R CMD INSTALL ALLMLL StartedAt: 2025-02-06 10:56:35 -0500 (Thu, 06 Feb 2025) EndedAt: 2025-02-06 10:56:44 -0500 (Thu, 06 Feb 2025) EllapsedTime: 8.7 seconds RetCode: 0 Status: OK