Package: ALLMLL Version: 1.46.0 Command: /home/biocbuild/bbs-3.20-bioc/R/bin/R CMD check --install=check:ALLMLL.install-out.txt --library=/home/biocbuild/bbs-3.20-bioc/R/site-library --timings ALLMLL_1.46.0.tar.gz StartedAt: 2025-02-11 11:45:54 -0500 (Tue, 11 Feb 2025) EndedAt: 2025-02-11 11:46:19 -0500 (Tue, 11 Feb 2025) EllapsedTime: 24.5 seconds RetCode: 0 Status: OK CheckDir: ALLMLL.Rcheck Warnings: 0