Package: ALL Version: 1.48.0 Command: /home/biocbuild/bbs-3.20-bioc/R/bin/R CMD INSTALL ALL StartedAt: 2025-02-18 10:56:13 -0500 (Tue, 18 Feb 2025) EndedAt: 2025-02-18 10:56:17 -0500 (Tue, 18 Feb 2025) EllapsedTime: 3.6 seconds RetCode: 0 Status: OK