Welcome to mirrors.dotsrc.org

All our mirrors of open source software are available via http, https, ftp and an onion service. More information about our mirrors including statistics and contact information is available on our mirror info pages.

For information about dotsrc.org and our other services please go to our website.

Index of /bioconductor/checkResults/release/data-experiment-LATEST/

File Name  ↓ File Size  ↓ Date  ↓ 
--
-2025-11-18 20:41:28
-2025-11-18 20:41:28
-2025-11-18 20:41:28
-2025-11-18 20:41:28
-2025-11-18 20:41:28
-2025-11-18 20:41:28
-2025-11-18 20:41:28
-2025-11-18 20:41:28
-2025-11-18 20:41:28
-2025-11-18 20:41:28
-2025-11-18 20:41:28
-2025-11-18 20:41:28
-2025-11-18 20:41:28
-2025-11-18 20:41:28
-2025-11-18 20:41:28
-2025-11-18 20:41:28
-2025-11-18 20:41:28
-2025-11-18 20:41:28
-2025-11-18 20:41:28
-2025-11-18 20:41:28
-2025-11-18 20:41:29
-2025-11-18 20:41:29
-2025-11-18 20:41:29
-2025-11-18 20:41:29
-2025-11-18 20:41:29
-2025-11-18 20:41:29
-2025-11-18 20:41:29
-2025-11-18 20:41:29
-2025-11-18 20:41:28
-2025-11-18 20:41:29
-2025-11-18 20:41:29
-2025-11-18 20:41:29
-2025-11-18 20:41:29
-2025-11-18 20:41:29
-2025-11-18 20:41:29
-2025-11-18 20:41:29
-2025-11-18 20:41:29
-2025-11-18 20:41:29
-2025-11-18 20:41:29
-2025-11-18 20:41:29
-2025-11-18 20:41:29
-2025-11-18 20:41:29
-2025-11-18 20:41:29
-2025-11-18 20:41:29
-2025-11-18 20:41:29
-2025-11-18 20:41:29
-2025-11-18 20:41:29
-2025-11-18 20:41:29
-2025-11-18 20:41:29
-2025-11-18 20:41:29
-2025-11-18 20:41:29
-2025-11-18 20:41:29
-2025-11-18 20:41:29
-2025-11-18 20:41:29
-2025-11-18 20:41:29
-2025-11-18 20:41:29
-2025-11-18 20:41:29
-2025-11-18 20:41:29
-2025-11-18 20:41:29
-2025-11-18 20:41:29
-2025-11-18 20:41:29
-2025-11-18 20:41:29
-2025-11-18 20:41:29
-2025-11-18 20:41:29
-2025-11-18 20:41:29
-2025-11-18 20:41:29
-2025-11-18 20:41:29
-2025-11-18 20:41:29
-2025-11-18 20:41:29
-2025-11-18 20:41:29
-2025-11-18 20:41:29
-2025-11-18 20:41:29
-2025-11-18 20:41:29
-2025-11-18 20:41:29
-2025-11-18 20:41:29
-2025-11-18 20:41:29
-2025-11-18 20:41:29
-2025-11-18 20:41:29
-2025-11-18 20:41:29
-2025-11-18 20:41:29
-2025-11-18 20:41:29
-2025-11-18 20:41:29
-2025-11-18 20:41:29
-2025-11-18 20:41:29
-2025-11-18 20:41:29
-2025-11-18 20:41:29
-2025-11-18 20:41:29
-2025-11-18 20:41:29
-2025-11-18 20:41:29
-2025-11-18 20:41:29
-2025-11-18 20:41:29
-2025-11-18 20:41:29
-2025-11-18 20:41:29
-2025-11-18 20:41:29
-2025-11-18 20:41:29
-2025-11-18 20:41:29
-2025-11-18 20:41:29
-2025-11-18 20:41:29
-2025-11-18 20:41:29
-2025-11-18 20:41:29
-2025-11-18 20:41:29
-2025-11-18 20:41:29
-2025-11-18 20:41:29
-2025-11-18 20:41:29
-2025-11-18 20:41:29
-2025-11-18 20:41:29
-2025-11-18 20:41:29
-2025-11-18 20:41:29
-2025-11-18 20:41:29
-2025-11-18 20:41:29
-2025-11-18 20:41:29
-2025-11-18 20:41:29
-2025-11-18 20:41:29
-2025-11-18 20:41:29
-2025-11-18 20:41:29
-2025-11-18 20:41:29
-2025-11-18 20:41:29
-2025-11-18 20:41:29
-2025-11-18 20:41:29
-2025-11-18 20:41:29
-2025-11-18 20:41:29
-2025-11-18 20:41:29
-2025-11-18 20:41:29
-2025-11-18 20:41:29
-2025-11-18 20:41:29
-2025-11-18 20:41:29
-2025-11-18 20:41:29
-2025-11-18 20:41:29
-2025-11-18 20:41:29
-2025-11-18 20:41:29
-2025-11-18 20:41:29
-2025-11-18 20:41:29
-2025-11-18 20:41:29
-2025-11-18 20:41:29
-2025-11-18 20:41:29
-2025-11-18 20:41:29
-2025-11-18 20:41:29
-2025-11-18 20:41:29
-2025-11-18 20:41:29
-2025-11-18 20:41:29
-2025-11-18 20:41:29
-2025-11-18 20:41:29
-2025-11-18 20:41:29
-2025-11-18 20:41:29
-2025-11-18 20:41:29
-2025-11-18 20:41:29
-2025-11-18 20:41:29
-2025-11-18 20:41:29
-2025-11-18 20:41:29
-2025-11-18 20:41:29
-2025-11-18 20:41:29
-2025-11-18 20:41:29
-2025-11-18 20:41:29
-2025-11-18 20:41:29
-2025-11-18 20:41:29
-2025-11-18 20:41:29
-2025-11-18 20:41:29
-2025-11-18 20:41:29
-2025-11-18 20:41:29
-2025-11-18 20:41:29
-2025-11-18 20:41:29
-2025-11-18 20:41:29
-2025-11-18 20:41:29
-2025-11-18 20:41:29
-2025-11-18 20:41:29
-2025-11-18 20:41:29
-2025-11-18 20:41:29
-2025-11-18 20:41:29
-2025-11-18 20:41:29
-2025-11-18 20:41:29
-2025-11-18 20:41:29
-2025-11-18 20:41:29
-2025-11-18 20:41:29
-2025-11-18 20:41:29
-2025-11-18 20:41:29
-2025-11-18 20:41:29
-2025-11-18 20:41:29
-2025-11-18 20:41:29
-2025-11-18 20:41:29
-2025-11-18 20:41:29
-2025-11-18 20:41:29
-2025-11-18 20:41:29
-2025-11-18 20:41:29
-2025-11-18 20:41:29
-2025-11-18 20:41:29
-2025-11-18 20:41:29
-2025-11-18 20:41:29
-2025-11-18 20:41:29
-2025-11-18 20:41:29
-2025-11-18 20:41:29
-2025-11-18 20:41:29
-2025-11-18 20:41:29
-2025-11-18 20:41:30
-2025-11-18 20:41:30
-2025-11-18 20:41:29
-2025-11-18 20:41:29
-2025-11-18 20:41:29
-2025-11-18 20:41:29
-2025-11-18 20:41:29
-2025-11-18 20:41:29
-2025-11-18 20:41:29
-2025-11-18 20:41:30
-2025-11-18 20:41:30
-2025-11-18 20:41:30
-2025-11-18 20:41:30
-2025-11-18 20:41:30
-2025-11-18 20:41:30
-2025-11-18 20:41:30
-2025-11-18 20:41:30
-2025-11-18 20:41:30
-2025-11-18 20:41:30
-2025-11-18 20:41:30
-2025-11-18 20:41:30
-2025-11-18 20:41:30
-2025-11-18 20:41:30
-2025-11-18 20:41:30
-2025-11-18 20:41:30
-2025-11-18 20:41:30
-2025-11-18 20:41:30
-2025-11-18 20:41:30
-2025-11-18 20:41:30
-2025-11-18 20:41:30
-2025-11-18 20:41:30
-2025-11-18 20:41:30
-2025-11-18 20:41:30
-2025-11-18 20:41:30
-2025-11-18 20:41:30
-2025-11-18 20:41:30
-2025-11-18 20:41:30
-2025-11-18 20:41:30
-2025-11-18 20:41:28
-2025-11-18 20:41:28
-2025-11-18 20:41:28
-2025-11-18 20:41:28
-2025-11-18 20:41:28
-2025-11-18 20:41:28
-2025-11-18 20:41:28
-2025-11-18 20:41:28
-2025-04-08 19:35:03
-2025-11-18 20:41:28
-2025-11-18 20:41:28
-2025-11-18 20:41:28
-2025-11-18 20:41:28
-2025-11-18 20:41:28
-2025-11-18 20:41:28
-2025-11-18 20:41:28
-2025-11-18 20:41:28
-2025-11-18 20:41:28
-2025-11-18 20:41:28
-2025-11-18 20:41:28
-2025-11-18 20:41:28
-2025-11-18 20:41:28
-2025-11-18 20:41:28
-2025-11-18 20:41:28
-2025-11-18 20:41:28
-2025-11-18 20:41:28
-2025-11-18 20:41:29
-2025-11-18 20:41:28
-2025-11-18 20:41:28
-2025-11-18 20:41:28
-2025-11-18 20:41:28
-2025-11-18 20:41:29
-2025-11-18 20:41:29
-2025-11-18 20:41:29
-2025-11-18 20:41:29
-2025-11-18 20:41:29
-2025-11-18 20:41:29
-2025-11-18 20:41:29
-2025-11-18 20:41:29
-2025-11-18 20:41:29
-2025-11-18 20:41:29
-2025-11-18 20:41:29
-2025-11-18 20:41:29
-2025-11-18 20:41:29
-2025-11-18 20:41:29
-2025-11-18 20:41:29
-2025-11-18 20:41:29
-2025-11-18 20:41:29
-2025-11-18 20:41:29
-2025-11-18 20:41:29
-2025-11-18 20:41:29
-2025-11-18 20:41:29
-2025-11-18 20:41:29
-2025-11-18 20:41:29
-2025-11-18 20:41:29
-2025-11-18 20:41:29
-2025-11-18 20:41:29
-2025-11-18 20:41:29
-2025-11-18 20:41:29
-2025-11-18 20:41:29
-2025-11-18 20:41:29
-2025-11-18 20:41:29
-2025-11-18 20:41:29
-2025-11-18 20:41:29
-2025-11-18 20:41:29
-2025-11-18 20:41:29
-2025-11-18 20:41:29
-2025-11-18 20:41:29
-2025-11-18 20:41:29
-2025-11-18 20:41:29
-2025-11-18 20:41:29
-2025-11-18 20:41:29
-2025-11-18 20:41:29
-2025-11-18 20:41:29
-2025-11-18 20:41:29
-2025-11-18 20:41:29
-2025-11-18 20:41:29
-2025-11-18 20:41:29
-2025-11-18 20:41:29
-2025-11-18 20:41:29
-2025-11-18 20:41:29
-2025-11-18 20:41:29
-2025-11-18 20:41:29
-2025-11-18 20:41:29
-2025-11-18 20:41:29
-2025-11-18 20:41:29
-2025-11-18 20:41:29
-2025-11-18 20:41:29
-2025-11-18 20:41:29
-2025-11-18 20:41:29
-2025-11-18 20:41:29
-2025-11-18 20:41:29
-2025-11-18 20:41:29
-2025-11-18 20:41:29
-2025-11-18 20:41:29
-2025-11-18 20:41:29
-2025-11-18 20:41:29
-2025-11-18 20:41:29
-2025-11-18 20:41:29
-2025-11-18 20:41:29
-2025-11-18 20:41:29
-2025-11-18 20:41:29
-2025-11-18 20:41:29
-2025-11-18 20:41:29
-2025-11-18 20:41:29
-2025-11-18 20:41:29
-2025-11-18 20:41:29
-2025-11-18 20:41:29
-2025-11-18 20:41:29
-2025-11-18 20:41:29
-2025-11-18 20:41:29
-2025-11-18 20:41:29
-2025-11-18 20:41:29
-2025-11-18 20:41:29
-2025-11-18 20:41:29
-2025-11-18 20:41:29
-2025-11-18 20:41:29
-2025-11-18 20:41:29
-2025-11-18 20:41:29
-2025-11-18 20:41:29
-2025-11-18 20:41:29
-2025-11-18 20:41:29
-2025-11-18 20:41:29
-2025-11-18 20:41:29
-2025-11-18 20:41:29
-2025-11-18 20:41:29
-2025-11-18 20:41:29
-2025-11-18 20:41:29
-2025-11-18 20:41:29
-2025-11-18 20:41:29
-2025-11-18 20:41:29
-2025-11-18 20:41:29
-2025-11-18 20:41:29
-2025-11-18 20:41:29
-2025-11-18 20:41:29
-2025-11-18 20:41:29
-2025-11-18 20:41:29
-2025-11-18 20:41:29
-2025-11-18 20:41:29
-2025-11-18 20:41:29
-2025-11-18 20:41:29
-2025-11-18 20:41:29
-2025-11-18 20:41:29
-2025-11-18 20:41:29
-2025-11-18 20:41:29
-2025-11-18 20:41:29
-2025-11-18 20:41:29
-2025-04-08 19:35:04
-2025-11-18 20:41:29
-2025-11-18 20:41:29
-2025-11-18 20:41:29
-2025-11-18 20:41:29
-2025-11-18 20:41:29
-2025-11-18 20:41:29
-2025-11-18 20:41:29
-2025-11-18 20:41:29
-2025-11-18 20:41:29
-2025-11-18 20:41:29
-2025-11-18 20:41:29
-2025-11-18 20:41:29
-2025-11-18 20:41:29
-2025-11-18 20:41:29
-2025-11-18 20:41:29
-2025-11-18 20:41:29
-2025-11-18 20:41:29
-2025-11-18 20:41:29
-2025-11-18 20:41:29
-2025-11-18 20:41:29
-2025-11-18 20:41:29
-2025-11-18 20:41:29
-2025-11-18 20:41:29
-2025-11-18 20:41:29
-2025-11-18 20:41:29
-2025-11-18 20:41:29
-2025-11-18 20:41:29
-2025-11-18 20:41:29
-2025-11-18 20:41:29
-2025-11-18 20:41:29
-2025-11-18 20:41:29
-2025-11-18 20:41:29
-2025-11-18 20:41:29
-2025-11-18 20:41:29
-2025-11-18 20:41:29
-2025-11-18 20:41:29
-2025-11-18 20:41:30
-2025-11-18 20:41:30
-2025-11-18 20:41:30
-2025-11-18 20:41:30
-2025-04-08 19:35:04
-2025-11-18 20:41:30
-2025-11-18 20:41:30
-2025-11-18 20:41:30
-2025-11-18 20:41:30
-2025-11-18 20:41:30
-2025-11-18 20:41:30
-2025-11-18 20:41:30
-2025-11-18 20:41:30
-2025-11-18 20:41:30
-2025-11-18 20:41:30
-2025-11-18 20:41:30
-2025-11-18 20:41:30
-2025-11-18 20:41:30
-2025-11-18 20:41:30
-2025-11-18 20:41:30
-2025-11-18 20:41:30
-2025-11-18 20:41:30
-2025-11-18 20:41:30
-2025-11-18 20:41:30
7.1 KiB2025-11-18 20:41:28
7.1 KiB2025-11-18 20:41:28
7.0 KiB2025-11-18 20:41:28
47.6 KiB2025-11-18 20:41:28
2.6 KiB2025-11-18 20:41:28
31.0 KiB2025-11-18 20:41:28
3.3 KiB2025-11-18 20:41:28
600.0 KiB2025-11-18 20:41:30
46.8 KiB2025-11-18 20:41:28
7.4 KiB2025-11-18 20:41:28
524.4 KiB2025-11-18 20:41:28
11.9 KiB2025-11-18 20:41:28
6.0 KiB2025-11-18 20:41:28
1.1 MiB2025-11-18 20:41:32
0 B2025-11-18 20:41:28