Package: synaptome.db Version: 0.99.17 Command: /home/biocbuild/bbs-3.22-bioc/R/bin/R CMD check --install=check:synaptome.db.install-out.txt --library=/home/biocbuild/bbs-3.22-bioc/R/site-library --timings synaptome.db_0.99.17.tar.gz StartedAt: 2025-11-05 06:00:33 -0500 (Wed, 05 Nov 2025) EndedAt: 2025-11-05 06:03:56 -0500 (Wed, 05 Nov 2025) EllapsedTime: 202.4 seconds RetCode: 0 Status: WARNINGS CheckDir: synaptome.db.Rcheck Warnings: 1