Package: synaptome.db Version: 0.99.16 Command: /home/biocbuild/bbs-3.21-bioc/R/bin/R CMD INSTALL synaptome.db StartedAt: 2025-10-01 06:00:24 -0400 (Wed, 01 Oct 2025) EndedAt: 2025-10-01 06:00:51 -0400 (Wed, 01 Oct 2025) EllapsedTime: 27.1 seconds RetCode: 0 Status: OK