Package: synaptome.db Version: 0.99.16 Command: /home/biocbuild/bbs-3.21-bioc/R/bin/R CMD build --keep-empty-dirs --no-resave-data synaptome.db StartedAt: 2025-10-01 06:02:18 -0400 (Wed, 01 Oct 2025) EndedAt: 2025-10-01 06:03:20 -0400 (Wed, 01 Oct 2025) EllapsedTime: 62.6 seconds RetCode: 0 Status: OK PackageFile: synaptome.db_0.99.16.tar.gz PackageFileSize: 316 KiB