Package: scAnnotatR.models Version: 0.99.10 Command: /home/biocbuild/bbs-3.21-bioc/R/bin/R CMD INSTALL scAnnotatR.models StartedAt: 2025-10-15 06:00:07 -0400 (Wed, 15 Oct 2025) EndedAt: 2025-10-15 06:00:08 -0400 (Wed, 15 Oct 2025) EllapsedTime: 1.7 seconds RetCode: 0 Status: OK