Package: scAnnotatR.models Version: 0.99.10 Command: /home/biocbuild/bbs-3.21-bioc/R/bin/R CMD build --keep-empty-dirs --no-resave-data scAnnotatR.models StartedAt: 2025-10-15 06:02:16 -0400 (Wed, 15 Oct 2025) EndedAt: 2025-10-15 06:03:06 -0400 (Wed, 15 Oct 2025) EllapsedTime: 50.2 seconds RetCode: 0 Status: OK PackageFile: scAnnotatR.models_0.99.10.tar.gz PackageFileSize: 13.21 KiB