Package: rGenomeTracksData Version: 0.99.0 Command: /home/biocbuild/bbs-3.21-bioc/R/bin/R CMD build --keep-empty-dirs --no-resave-data rGenomeTracksData StartedAt: 2025-10-08 06:02:13 -0400 (Wed, 08 Oct 2025) EndedAt: 2025-10-08 06:02:32 -0400 (Wed, 08 Oct 2025) EllapsedTime: 18.7 seconds RetCode: 0 Status: OK PackageFile: rGenomeTracksData_0.99.0.tar.gz PackageFileSize: 10.08 KiB