Package: phastCons30way.UCSC.hg38 Version: 3.13.0 Command: /home/biocbuild/bbs-3.21-bioc/R/bin/R CMD INSTALL phastCons30way.UCSC.hg38 StartedAt: 2025-10-15 06:00:20 -0400 (Wed, 15 Oct 2025) EndedAt: 2025-10-15 06:00:37 -0400 (Wed, 15 Oct 2025) EllapsedTime: 17.1 seconds RetCode: 0 Status: OK